Package: mbkmeans Version: 1.8.0 Command: C:\Users\biocbuild\bbs-3.13-bioc\R\bin\R.exe CMD check --force-multiarch --install=check:mbkmeans.install-out.txt --library=C:\Users\biocbuild\bbs-3.13-bioc\R\library --no-vignettes --timings mbkmeans_1.8.0.tar.gz StartedAt: 2021-10-15 01:25:44 -0400 (Fri, 15 Oct 2021) EndedAt: 2021-10-15 01:36:55 -0400 (Fri, 15 Oct 2021) EllapsedTime: 671.3 seconds RetCode: 0 Status: OK CheckDir: mbkmeans.Rcheck Warnings: 0