Package: mdqc Version: 1.54.0 Command: rm -rf mdqc.buildbin-libdir && mkdir mdqc.buildbin-libdir && /Users/biocbuild/BBS/utils/build-universal.sh mdqc_1.54.0.tar.gz /Library/Frameworks/R.framework/Versions/Current/Resources/bin/R mdqc.buildbin-libdir StartedAt: 2021-10-15 03:00:03 -0400 (Fri, 15 Oct 2021) EndedAt: 2021-10-15 03:01:07 -0400 (Fri, 15 Oct 2021) EllapsedTime: 64.1 seconds RetCode: 0 Status: OK PackageFile: mdqc_1.54.0.tgz PackageFileSize: 228.1 KiB