Package: mdqc Version: 1.54.0 Command: /Library/Frameworks/R.framework/Versions/Current/Resources/bin/R CMD check --install=check:mdqc.install-out.txt --library=/Library/Frameworks/R.framework/Versions/Current/Resources/library --no-vignettes --timings mdqc_1.54.0.tar.gz StartedAt: 2021-10-14 20:44:30 -0400 (Thu, 14 Oct 2021) EndedAt: 2021-10-14 20:45:04 -0400 (Thu, 14 Oct 2021) EllapsedTime: 34.1 seconds RetCode: 0 Status: OK CheckDir: mdqc.Rcheck Warnings: 0