Package: mdqc Version: 1.54.0 Command: chmod a+r mdqc -R && C:\Users\biocbuild\bbs-3.13-bioc\R\bin\R.exe CMD build --keep-empty-dirs --no-resave-data mdqc StartedAt: 2021-10-14 15:26:07 -0400 (Thu, 14 Oct 2021) EndedAt: 2021-10-14 15:26:20 -0400 (Thu, 14 Oct 2021) EllapsedTime: 12.3 seconds RetCode: 0 Status: OK PackageFile: mdqc_1.54.0.tar.gz PackageFileSize: 188.1 KiB