git_url: https://git.bioconductor.org/packages/megadepth git_branch: RELEASE_3_13 git_last_commit: 844d5f2 git_last_commit_date: 2021-08-23 17:23:15 -0400 (Mon, 23 Aug 2021) Package: megadepth Version: 1.2.3 Maintainer: David Zhang MaintainerEmail: david.zhang.12 at ucl.ac.uk