Package: megadepth Version: 1.2.3 Command: /home/biocbuild/bbs-3.13-bioc/R/bin/R CMD build --keep-empty-dirs --no-resave-data megadepth StartedAt: 2021-10-14 07:39:37 -0400 (Thu, 14 Oct 2021) EndedAt: 2021-10-14 07:40:10 -0400 (Thu, 14 Oct 2021) EllapsedTime: 32.9 seconds RetCode: 0 Status: OK PackageFile: megadepth_1.2.3.tar.gz PackageFileSize: 450.5 KiB