Package: megadepth Version: 1.2.3 Command: /home/biocbuild/bbs-3.13-bioc/R/bin/R CMD INSTALL megadepth StartedAt: 2021-10-14 06:19:08 -0400 (Thu, 14 Oct 2021) EndedAt: 2021-10-14 06:19:19 -0400 (Thu, 14 Oct 2021) EllapsedTime: 11.1 seconds RetCode: 0 Status: OK