Package: meshes Version: 1.18.1 Command: rm -rf meshes.buildbin-libdir && mkdir meshes.buildbin-libdir && /Users/biocbuild/BBS/utils/build-universal.sh meshes_1.18.1.tar.gz /Library/Frameworks/R.framework/Versions/Current/Resources/bin/R meshes.buildbin-libdir StartedAt: 2021-10-15 03:01:17 -0400 (Fri, 15 Oct 2021) EndedAt: 2021-10-15 03:02:21 -0400 (Fri, 15 Oct 2021) EllapsedTime: 64.1 seconds RetCode: 0 Status: OK PackageFile: meshes_1.18.1.tgz PackageFileSize: 1.651 MiB