Package: metaSeq Version: 1.32.0 Command: rm -rf metaSeq.buildbin-libdir && mkdir metaSeq.buildbin-libdir && /Users/biocbuild/BBS/utils/build-universal.sh metaSeq_1.32.0.tar.gz /Library/Frameworks/R.framework/Versions/Current/Resources/bin/R metaSeq.buildbin-libdir StartedAt: 2021-10-15 03:02:59 -0400 (Fri, 15 Oct 2021) EndedAt: 2021-10-15 03:04:03 -0400 (Fri, 15 Oct 2021) EllapsedTime: 64.3 seconds RetCode: 0 Status: OK PackageFile: metaSeq_1.32.0.tgz PackageFileSize: 6.077 MiB