Package: metabCombiner Version: 1.2.2 Command: /Library/Frameworks/R.framework/Versions/Current/Resources/bin/R CMD INSTALL metabCombiner StartedAt: 2021-10-14 09:45:41 -0400 (Thu, 14 Oct 2021) EndedAt: 2021-10-14 09:46:35 -0400 (Thu, 14 Oct 2021) EllapsedTime: 53.5 seconds RetCode: 0 Status: OK