Package: metabCombiner Version: 1.2.2 Command: rm -rf metabCombiner.buildbin-libdir && mkdir metabCombiner.buildbin-libdir && C:\Users\biocbuild\bbs-3.13-bioc\R\bin\R.exe CMD INSTALL --merge-multiarch --build --library=metabCombiner.buildbin-libdir metabCombiner_1.2.2.tar.gz StartedAt: 2021-10-15 10:16:56 -0400 (Fri, 15 Oct 2021) EndedAt: 2021-10-15 10:18:28 -0400 (Fri, 15 Oct 2021) EllapsedTime: 91.6 seconds RetCode: 0 Status: OK PackageFile: metabCombiner_1.2.2.zip PackageFileSize: 2.907 MiB