Package: metabolomicsWorkbenchR Version: 1.2.0 Command: C:\cygwin\bin\curl.exe -O http://155.52.207.165/BBS/3.13/bioc/src/contrib/metabolomicsWorkbenchR_1.2.0.tar.gz && rm -rf metabolomicsWorkbenchR.buildbin-libdir && mkdir metabolomicsWorkbenchR.buildbin-libdir && C:\Users\biocbuild\bbs-3.13-bioc\R\bin\R.exe CMD INSTALL --merge-multiarch --build --library=metabolomicsWorkbenchR.buildbin-libdir metabolomicsWorkbenchR_1.2.0.tar.gz && C:\Users\biocbuild\bbs-3.13-bioc\R\bin\R.exe CMD INSTALL metabolomicsWorkbenchR_1.2.0.zip && rm metabolomicsWorkbenchR_1.2.0.tar.gz metabolomicsWorkbenchR_1.2.0.zip StartedAt: 2021-10-14 10:49:12 -0400 (Thu, 14 Oct 2021) EndedAt: 2021-10-14 10:50:43 -0400 (Thu, 14 Oct 2021) EllapsedTime: 90.5 seconds RetCode: 0 Status: OK