git_url: https://git.bioconductor.org/packages/metagene2 git_branch: RELEASE_3_13 git_last_commit: d1121a9 git_last_commit_date: 2021-07-13 14:38:40 -0400 (Tue, 13 Jul 2021) Package: metagene2 Version: 1.8.1 Maintainer: Eric Fournier MaintainerEmail: ericfournier2 at yahoo.ca