Package: metapod Version: 1.0.0 Command: rm -rf metapod.buildbin-libdir && mkdir metapod.buildbin-libdir && /Users/biocbuild/BBS/utils/build-universal.sh metapod_1.0.0.tar.gz /Library/Frameworks/R.framework/Versions/Current/Resources/bin/R metapod.buildbin-libdir StartedAt: 2021-10-15 03:02:54 -0400 (Fri, 15 Oct 2021) EndedAt: 2021-10-15 03:03:58 -0400 (Fri, 15 Oct 2021) EllapsedTime: 64.4 seconds RetCode: 0 Status: OK PackageFile: metapod_1.0.0.tgz PackageFileSize: 494 KiB