Package: metapod Version: 1.0.0 Command: /Library/Frameworks/R.framework/Versions/Current/Resources/bin/R CMD build --keep-empty-dirs --no-resave-data metapod StartedAt: 2021-10-14 13:07:12 -0400 (Thu, 14 Oct 2021) EndedAt: 2021-10-14 13:07:55 -0400 (Thu, 14 Oct 2021) EllapsedTime: 43.4 seconds RetCode: 0 Status: OK PackageFile: metapod_1.0.0.tar.gz PackageFileSize: 308.7 KiB