Package: metapod Version: 1.0.0 Command: /Library/Frameworks/R.framework/Versions/Current/Resources/bin/R CMD check --install=check:metapod.install-out.txt --library=/Library/Frameworks/R.framework/Versions/Current/Resources/library --no-vignettes --timings metapod_1.0.0.tar.gz StartedAt: 2021-10-14 20:53:22 -0400 (Thu, 14 Oct 2021) EndedAt: 2021-10-14 20:54:07 -0400 (Thu, 14 Oct 2021) EllapsedTime: 44.7 seconds RetCode: 0 Status: OK CheckDir: metapod.Rcheck Warnings: 0