Package: metapod Version: 1.0.0 Command: /home/biocbuild/bbs-3.13-bioc/R/bin/R CMD build --keep-empty-dirs --no-resave-data metapod StartedAt: 2021-10-14 07:41:09 -0400 (Thu, 14 Oct 2021) EndedAt: 2021-10-14 07:41:41 -0400 (Thu, 14 Oct 2021) EllapsedTime: 31.2 seconds RetCode: 0 Status: OK PackageFile: metapod_1.0.0.tar.gz PackageFileSize: 308.8 KiB