Package: metapod Version: 1.0.0 Command: /home/biocbuild/bbs-3.13-bioc/R/bin/R CMD INSTALL metapod StartedAt: 2021-10-14 06:02:51 -0400 (Thu, 14 Oct 2021) EndedAt: 2021-10-14 06:03:32 -0400 (Thu, 14 Oct 2021) EllapsedTime: 40.6 seconds RetCode: 0 Status: OK