Package: methimpute Version: 1.14.0 Command: /Library/Frameworks/R.framework/Versions/Current/Resources/bin/R CMD check --install=check:methimpute.install-out.txt --library=/Library/Frameworks/R.framework/Versions/Current/Resources/library --no-vignettes --timings methimpute_1.14.0.tar.gz StartedAt: 2021-10-14 20:55:04 -0400 (Thu, 14 Oct 2021) EndedAt: 2021-10-14 20:58:45 -0400 (Thu, 14 Oct 2021) EllapsedTime: 221.1 seconds RetCode: 0 Status: OK CheckDir: methimpute.Rcheck Warnings: 0