Package: methimpute Version: 1.14.0 Command: /home/biocbuild/bbs-3.13-bioc/R/bin/R CMD check --install=check:methimpute.install-out.txt --library=/home/biocbuild/bbs-3.13-bioc/R/library --no-vignettes --timings methimpute_1.14.0.tar.gz StartedAt: 2021-10-14 10:31:41 -0400 (Thu, 14 Oct 2021) EndedAt: 2021-10-14 10:34:01 -0400 (Thu, 14 Oct 2021) EllapsedTime: 139.6 seconds RetCode: 0 Status: OK CheckDir: methimpute.Rcheck Warnings: 0