Package: methimpute Version: 1.14.0 Command: chmod a+r methimpute -R && C:\Users\biocbuild\bbs-3.13-bioc\R\bin\R.exe CMD build --keep-empty-dirs --no-resave-data methimpute StartedAt: 2021-10-14 15:33:51 -0400 (Thu, 14 Oct 2021) EndedAt: 2021-10-14 15:37:01 -0400 (Thu, 14 Oct 2021) EllapsedTime: 189.8 seconds RetCode: 0 Status: OK PackageFile: methimpute_1.14.0.tar.gz PackageFileSize: 1.258 MiB