Package: methylGSA Version: 1.10.0 Command: rm -rf methylGSA.buildbin-libdir && mkdir methylGSA.buildbin-libdir && /Users/biocbuild/BBS/utils/build-universal.sh methylGSA_1.10.0.tar.gz /Library/Frameworks/R.framework/Versions/Current/Resources/bin/R methylGSA.buildbin-libdir StartedAt: 2021-10-15 03:04:14 -0400 (Fri, 15 Oct 2021) EndedAt: 2021-10-15 03:05:19 -0400 (Fri, 15 Oct 2021) EllapsedTime: 65.1 seconds RetCode: 0 Status: OK PackageFile: methylGSA_1.10.0.tgz PackageFileSize: 3.176 MiB