Package: methylGSA Version: 1.10.0 Command: /Library/Frameworks/R.framework/Versions/Current/Resources/bin/R CMD check --install=check:methylGSA.install-out.txt --library=/Library/Frameworks/R.framework/Versions/Current/Resources/library --no-vignettes --timings methylGSA_1.10.0.tar.gz StartedAt: 2021-10-14 20:59:05 -0400 (Thu, 14 Oct 2021) EndedAt: 2021-10-14 21:06:25 -0400 (Thu, 14 Oct 2021) EllapsedTime: 439.9 seconds RetCode: 0 Status: OK CheckDir: methylGSA.Rcheck Warnings: 0