Package: methylGSA Version: 1.10.0 Command: /Library/Frameworks/R.framework/Versions/Current/Resources/bin/R CMD INSTALL methylGSA StartedAt: 2021-10-14 10:14:44 -0400 (Thu, 14 Oct 2021) EndedAt: 2021-10-14 10:15:39 -0400 (Thu, 14 Oct 2021) EllapsedTime: 54.0 seconds RetCode: 0 Status: OK