Package: methylGSA Version: 1.10.0 Command: /home/biocbuild/bbs-3.13-bioc/R/bin/R CMD build --keep-empty-dirs --no-resave-data methylGSA StartedAt: 2021-10-14 07:42:26 -0400 (Thu, 14 Oct 2021) EndedAt: 2021-10-14 07:44:00 -0400 (Thu, 14 Oct 2021) EllapsedTime: 94.5 seconds RetCode: 0 Status: OK PackageFile: methylGSA_1.10.0.tar.gz PackageFileSize: 3.131 MiB