Package: methylGSA Version: 1.10.0 Command: chmod a+r methylGSA -R && C:\Users\biocbuild\bbs-3.13-bioc\R\bin\R.exe CMD build --keep-empty-dirs --no-resave-data methylGSA StartedAt: 2021-10-14 15:35:28 -0400 (Thu, 14 Oct 2021) EndedAt: 2021-10-14 15:37:16 -0400 (Thu, 14 Oct 2021) EllapsedTime: 108.8 seconds RetCode: 0 Status: OK PackageFile: methylGSA_1.10.0.tar.gz PackageFileSize: 3.11 MiB