Package: methylGSA Version: 1.10.0 Command: C:\cygwin\bin\curl.exe -O http://155.52.207.165/BBS/3.13/bioc/src/contrib/methylGSA_1.10.0.tar.gz && rm -rf methylGSA.buildbin-libdir && mkdir methylGSA.buildbin-libdir && C:\Users\biocbuild\bbs-3.13-bioc\R\bin\R.exe CMD INSTALL --merge-multiarch --build --library=methylGSA.buildbin-libdir methylGSA_1.10.0.tar.gz && C:\Users\biocbuild\bbs-3.13-bioc\R\bin\R.exe CMD INSTALL methylGSA_1.10.0.zip && rm methylGSA_1.10.0.tar.gz methylGSA_1.10.0.zip StartedAt: 2021-10-14 11:07:54 -0400 (Thu, 14 Oct 2021) EndedAt: 2021-10-14 11:09:28 -0400 (Thu, 14 Oct 2021) EllapsedTime: 94.2 seconds RetCode: 0 Status: OK