git_url: https://git.bioconductor.org/packages/methylPipe git_branch: RELEASE_3_13 git_last_commit: ca8dade git_last_commit_date: 2021-05-19 12:07:06 -0400 (Wed, 19 May 2021) Package: methylPipe Version: 1.26.0 Maintainer: Kamal Kishore MaintainerEmail: kamal.fartiyal84 at gmail.com