Package: methylPipe Version: 1.26.0 Command: /home/biocbuild/bbs-3.13-bioc/R/bin/R CMD build --keep-empty-dirs --no-resave-data methylPipe StartedAt: 2021-10-14 07:42:50 -0400 (Thu, 14 Oct 2021) EndedAt: 2021-10-14 07:45:11 -0400 (Thu, 14 Oct 2021) EllapsedTime: 140.9 seconds RetCode: 0 Status: OK PackageFile: methylPipe_1.26.0.tar.gz PackageFileSize: 593.7 KiB