Package: mfa Version: 1.14.0 Command: /home/biocbuild/bbs-3.13-bioc/R/bin/R CMD build --keep-empty-dirs --no-resave-data mfa StartedAt: 2021-10-14 07:43:48 -0400 (Thu, 14 Oct 2021) EndedAt: 2021-10-14 07:44:22 -0400 (Thu, 14 Oct 2021) EllapsedTime: 34.1 seconds RetCode: 0 Status: OK PackageFile: mfa_1.14.0.tar.gz PackageFileSize: 522.4 KiB