Package: mfa Version: 1.14.0 Command: /home/biocbuild/bbs-3.13-bioc/R/bin/R CMD check --install=check:mfa.install-out.txt --library=/home/biocbuild/bbs-3.13-bioc/R/library --no-vignettes --timings mfa_1.14.0.tar.gz StartedAt: 2021-10-14 10:34:26 -0400 (Thu, 14 Oct 2021) EndedAt: 2021-10-14 10:35:31 -0400 (Thu, 14 Oct 2021) EllapsedTime: 64.3 seconds RetCode: 0 Status: OK CheckDir: mfa.Rcheck Warnings: 0