Package: mfa Version: 1.14.0 Command: chmod a+r mfa -R && C:\Users\biocbuild\bbs-3.13-bioc\R\bin\R.exe CMD build --keep-empty-dirs --no-resave-data mfa StartedAt: 2021-10-14 15:39:19 -0400 (Thu, 14 Oct 2021) EndedAt: 2021-10-14 15:40:47 -0400 (Thu, 14 Oct 2021) EllapsedTime: 88.0 seconds RetCode: 0 Status: OK PackageFile: mfa_1.14.0.tar.gz PackageFileSize: 333.7 KiB