Package: mfa Version: 1.14.0 Command: C:\cygwin\bin\curl.exe -O http://155.52.207.165/BBS/3.13/bioc/src/contrib/mfa_1.14.0.tar.gz && rm -rf mfa.buildbin-libdir && mkdir mfa.buildbin-libdir && C:\Users\biocbuild\bbs-3.13-bioc\R\bin\R.exe CMD INSTALL --merge-multiarch --build --library=mfa.buildbin-libdir mfa_1.14.0.tar.gz && C:\Users\biocbuild\bbs-3.13-bioc\R\bin\R.exe CMD INSTALL mfa_1.14.0.zip && rm mfa_1.14.0.tar.gz mfa_1.14.0.zip StartedAt: 2021-10-14 09:51:38 -0400 (Thu, 14 Oct 2021) EndedAt: 2021-10-14 09:52:42 -0400 (Thu, 14 Oct 2021) EllapsedTime: 63.8 seconds RetCode: 0 Status: OK