Package: miQC Version: 1.0.0 Command: rm -rf miQC.buildbin-libdir && mkdir miQC.buildbin-libdir && /Users/biocbuild/BBS/utils/build-universal.sh miQC_1.0.0.tar.gz /Library/Frameworks/R.framework/Versions/Current/Resources/bin/R miQC.buildbin-libdir StartedAt: 2021-10-15 03:07:27 -0400 (Fri, 15 Oct 2021) EndedAt: 2021-10-15 03:08:41 -0400 (Fri, 15 Oct 2021) EllapsedTime: 74.4 seconds RetCode: 0 Status: OK PackageFile: miQC_1.0.0.tgz PackageFileSize: 1.435 MiB