Package: miQC Version: 1.0.0 Command: chmod a+r miQC -R && C:\Users\biocbuild\bbs-3.13-bioc\R\bin\R.exe CMD build --keep-empty-dirs --no-resave-data miQC StartedAt: 2021-10-14 15:43:49 -0400 (Thu, 14 Oct 2021) EndedAt: 2021-10-14 15:46:59 -0400 (Thu, 14 Oct 2021) EllapsedTime: 189.8 seconds RetCode: 0 Status: OK PackageFile: miQC_1.0.0.tar.gz PackageFileSize: 545.6 KiB