git_url: https://git.bioconductor.org/packages/miRLAB git_branch: RELEASE_3_13 git_last_commit: 829c088 git_last_commit_date: 2021-05-19 12:14:40 -0400 (Wed, 19 May 2021) Package: miRLAB Version: 1.22.0 Maintainer: Vu Viet Hoang Pham MaintainerEmail: VuVietHoang.Pham at unisa.edu.au