Package: miRLAB Version: 1.22.0 Command: /home/biocbuild/bbs-3.13-bioc/R/bin/R CMD INSTALL miRLAB StartedAt: 2021-10-14 06:20:32 -0400 (Thu, 14 Oct 2021) EndedAt: 2021-10-14 06:20:59 -0400 (Thu, 14 Oct 2021) EllapsedTime: 27.0 seconds RetCode: 0 Status: OK