Package: miRspongeR Version: 1.18.0 Command: rm -rf miRspongeR.buildbin-libdir && mkdir miRspongeR.buildbin-libdir && /Users/biocbuild/BBS/utils/build-universal.sh miRspongeR_1.18.0.tar.gz /Library/Frameworks/R.framework/Versions/Current/Resources/bin/R miRspongeR.buildbin-libdir StartedAt: 2021-10-15 03:08:31 -0400 (Fri, 15 Oct 2021) EndedAt: 2021-10-15 03:09:42 -0400 (Fri, 15 Oct 2021) EllapsedTime: 71.4 seconds RetCode: 0 Status: OK PackageFile: miRspongeR_1.18.0.tgz PackageFileSize: 661.5 KiB