Package: miRspongeR Version: 1.18.0 Command: /home/biocbuild/bbs-3.13-bioc/R/bin/R CMD build --keep-empty-dirs --no-resave-data miRspongeR StartedAt: 2021-10-14 07:45:46 -0400 (Thu, 14 Oct 2021) EndedAt: 2021-10-14 07:47:19 -0400 (Thu, 14 Oct 2021) EllapsedTime: 92.5 seconds RetCode: 0 Status: OK PackageFile: miRspongeR_1.18.0.tar.gz PackageFileSize: 564.4 KiB