Package: miRspongeR Version: 1.18.0 Command: /home/biocbuild/bbs-3.13-bioc/R/bin/R CMD check --install=check:miRspongeR.install-out.txt --library=/home/biocbuild/bbs-3.13-bioc/R/library --no-vignettes --timings miRspongeR_1.18.0.tar.gz StartedAt: 2021-10-14 10:38:18 -0400 (Thu, 14 Oct 2021) EndedAt: 2021-10-14 10:40:59 -0400 (Thu, 14 Oct 2021) EllapsedTime: 160.4 seconds RetCode: 0 Status: OK CheckDir: miRspongeR.Rcheck Warnings: 0