Package: miRspongeR Version: 1.18.0 Command: /home/biocbuild/bbs-3.13-bioc/R/bin/R CMD INSTALL miRspongeR StartedAt: 2021-10-14 06:28:38 -0400 (Thu, 14 Oct 2021) EndedAt: 2021-10-14 06:29:02 -0400 (Thu, 14 Oct 2021) EllapsedTime: 23.5 seconds RetCode: 0 Status: OK