Package: miRspongeR Version: 1.18.0 Command: rm -rf miRspongeR.buildbin-libdir && mkdir miRspongeR.buildbin-libdir && C:\Users\biocbuild\bbs-3.13-bioc\R\bin\R.exe CMD INSTALL --merge-multiarch --build --library=miRspongeR.buildbin-libdir miRspongeR_1.18.0.tar.gz StartedAt: 2021-10-15 10:27:25 -0400 (Fri, 15 Oct 2021) EndedAt: 2021-10-15 10:28:57 -0400 (Fri, 15 Oct 2021) EllapsedTime: 91.8 seconds RetCode: 0 Status: OK PackageFile: miRspongeR_1.18.0.zip PackageFileSize: 686.7 KiB