Package: miRspongeR Version: 1.18.0 Command: chmod a+r miRspongeR -R && C:\Users\biocbuild\bbs-3.13-bioc\R\bin\R.exe CMD build --keep-empty-dirs --no-resave-data miRspongeR StartedAt: 2021-10-14 15:46:01 -0400 (Thu, 14 Oct 2021) EndedAt: 2021-10-14 15:48:32 -0400 (Thu, 14 Oct 2021) EllapsedTime: 150.5 seconds RetCode: 0 Status: OK PackageFile: miRspongeR_1.18.0.tar.gz PackageFileSize: 564.4 KiB