git_url: https://git.bioconductor.org/packages/mia git_branch: RELEASE_3_13 git_last_commit: 95eeac0 git_last_commit_date: 2021-07-30 16:13:43 -0400 (Fri, 30 Jul 2021) Package: mia Version: 1.0.8 Maintainer: Felix G.M. Ernst MaintainerEmail: felix.gm.ernst at outlook.com