Package: mia Version: 1.0.8 Command: /home/biocbuild/bbs-3.13-bioc/R/bin/R CMD INSTALL mia StartedAt: 2021-10-14 06:18:29 -0400 (Thu, 14 Oct 2021) EndedAt: 2021-10-14 06:19:01 -0400 (Thu, 14 Oct 2021) EllapsedTime: 32.2 seconds RetCode: 0 Status: OK