Package: mirIntegrator Version: 1.22.0 Command: /home/biocbuild/bbs-3.13-bioc/R/bin/R CMD build --keep-empty-dirs --no-resave-data mirIntegrator StartedAt: 2021-10-14 07:45:29 -0400 (Thu, 14 Oct 2021) EndedAt: 2021-10-14 07:46:11 -0400 (Thu, 14 Oct 2021) EllapsedTime: 42.3 seconds RetCode: 0 Status: OK PackageFile: mirIntegrator_1.22.0.tar.gz PackageFileSize: 1.709 MiB