Package: mirIntegrator Version: 1.22.0 Command: /home/biocbuild/bbs-3.13-bioc/R/bin/R CMD check --install=check:mirIntegrator.install-out.txt --library=/home/biocbuild/bbs-3.13-bioc/R/library --no-vignettes --timings mirIntegrator_1.22.0.tar.gz StartedAt: 2021-10-14 10:37:49 -0400 (Thu, 14 Oct 2021) EndedAt: 2021-10-14 10:39:55 -0400 (Thu, 14 Oct 2021) EllapsedTime: 126.0 seconds RetCode: 0 Status: OK CheckDir: mirIntegrator.Rcheck Warnings: 0