Package: mirTarRnaSeq Version: 1.0.0 Command: rm -rf mirTarRnaSeq.buildbin-libdir && mkdir mirTarRnaSeq.buildbin-libdir && /Users/biocbuild/BBS/utils/build-universal.sh mirTarRnaSeq_1.0.0.tar.gz /Library/Frameworks/R.framework/Versions/Current/Resources/bin/R mirTarRnaSeq.buildbin-libdir StartedAt: 2021-10-15 03:08:36 -0400 (Fri, 15 Oct 2021) EndedAt: 2021-10-15 03:09:47 -0400 (Fri, 15 Oct 2021) EllapsedTime: 71.1 seconds RetCode: 0 Status: OK PackageFile: mirTarRnaSeq_1.0.0.tgz PackageFileSize: 3.976 MiB