Package: mirTarRnaSeq Version: 1.0.0 Command: C:\Users\biocbuild\bbs-3.13-bioc\R\bin\R.exe CMD check --force-multiarch --install=check:mirTarRnaSeq.install-out.txt --library=C:\Users\biocbuild\bbs-3.13-bioc\R\library --no-vignettes --timings mirTarRnaSeq_1.0.0.tar.gz StartedAt: 2021-10-15 02:05:04 -0400 (Fri, 15 Oct 2021) EndedAt: 2021-10-15 02:06:51 -0400 (Fri, 15 Oct 2021) EllapsedTime: 106.8 seconds RetCode: 0 Status: OK CheckDir: mirTarRnaSeq.Rcheck Warnings: 0