Package: missRows Version: 1.12.0 Command: chmod a+r missRows -R && C:\Users\biocbuild\bbs-3.13-bioc\R\bin\R.exe CMD build --keep-empty-dirs --no-resave-data missRows StartedAt: 2021-10-14 15:46:26 -0400 (Thu, 14 Oct 2021) EndedAt: 2021-10-14 15:48:49 -0400 (Thu, 14 Oct 2021) EllapsedTime: 143.1 seconds RetCode: 0 Status: OK PackageFile: missRows_1.12.0.tar.gz PackageFileSize: 645.4 KiB